BEGIN:VCALENDAR
PRODID:-//HH//NONSGML Cascade Server//EN
VERSION:2.0
X-WR-CALNAME:A Percussive Bouquet
X-WR-TIMEZONE:America/Chicago
X-WR-CALDESC:
BEGIN:VTIMEZONE
TZID:America/Chicago
BEGIN:DAYLIGHT
TZOFFSETFROM:-0500
TZOFFSETTO:-0400
TZNAME:EDT
DTSTART:19700308T020000
RRULE:FREQ=YEARLY;BYMONTH=3;BYDAY=2SU
END:DAYLIGHT
BEGIN:STANDARD
TZOFFSETFROM:-0400
TZOFFSETTO:-0500
TZNAME:CST
DTSTART:19701101T020000
RRULE:FREQ=YEARLY;BYMONTH=11;BYDAY=1SU
END:STANDARD
END:VTIMEZONE
BEGIN:VEVENT
DTSTART:20260412T180000
DTEND:20260412T190000
DTSTAMP:20260420T020401
UID:9f1897c181736a2d739ae9ac13be0994
CREATED:20260108T133227
DESCRIPTION:April 12th\, 6pm\nUTSA Recital Hall\n\nA Percussive Bouquet -\
 nA Senior Recital presented by Rebecca Palmer.\n\nA blend of many differen
 t percussion elements that showcase the wide range of timbers and techniqu
 es available to us\, including works by Bach\, Cangelosi\, Cerrone\, Pushk
 arev\, Steinbauer\, and Wharton.\n\nFeatured players:\nMark Sawyer\nLio Pa
 lacios\nFelix Esquivel\n
LAST-MODIFIED:20260407T133424
LOCATION:UTSA Recital Hall
SEQUENCE:0
STATUS:CONFIRMED
SUMMARY:A Percussive Bouquet
TRANSP:OPAQUE
END:VEVENT
END:VCALENDAR
