BEGIN:VCALENDAR
PRODID:-//HH//NONSGML Cascade Server//EN
VERSION:2.0
X-WR-CALNAME:Roots and Resonances : A Traveler's Suite
X-WR-TIMEZONE:America/Chicago
X-WR-CALDESC:
BEGIN:VTIMEZONE
TZID:America/Chicago
BEGIN:DAYLIGHT
TZOFFSETFROM:-0500
TZOFFSETTO:-0400
TZNAME:EDT
DTSTART:19700308T020000
RRULE:FREQ=YEARLY;BYMONTH=3;BYDAY=2SU
END:DAYLIGHT
BEGIN:STANDARD
TZOFFSETFROM:-0400
TZOFFSETTO:-0500
TZNAME:CST
DTSTART:19701101T020000
RRULE:FREQ=YEARLY;BYMONTH=11;BYDAY=1SU
END:STANDARD
END:VTIMEZONE
BEGIN:VEVENT
DTSTART:20260418T180000
DTEND:20260418T190000
DTSTAMP:20260422T014107
UID:9f5ddee781736a2d739ae9ac08ed1d75
CREATED:20260108T144807
DESCRIPTION:*Roots and Resonances* is a sonic journey that explores Costa 
 Rican identity through works by Edín Solís\, Elvis Porras\, and Guido Sanc
 hez\; the heritage of the Spanish guitar\, featuring Federico Moreno Torro
 ba and Joaquín Rodrigo\; European modernism\, represented by Frank Martin\
 ; and the tango of Máximo Diego Pujol—elements that together create a stri
 king contrast.
LAST-MODIFIED:20260416T201216
LOCATION:UTSA Recital Hall
SEQUENCE:0
STATUS:CONFIRMED
SUMMARY:Roots and Resonances : A Traveler's Suite
TRANSP:OPAQUE
END:VEVENT
END:VCALENDAR
